Workbook
Name Excel_BuiltIn_Print_Area_1_1: CALCULADORA!$A$2:$E$18
Name Excel_BuiltIn_Print_Area_1_1: #REF!
Name IntervaloNomeado1: CALCULADORA!$A$18:$E$18
Name IntervaloNomeado1: #REF!

Sheet TABELA_IR
A1: TABELA - IRRF | G1: VIGÊNCIA
G2: 05/2023
A4: BASE DE CÁLCULO_RPA | B4: =CALCULADORA!E5-CALCULADORA!E10 -> 6052
A5: RETENÇÃO IRRF_RPA | B5: =F13 -> 779.34
A7: DE | B7: ATÉ | C7: VALOR RPA | D7: ALÍQUOTA | E7: PARCELA A DEDUZIR | F7: IMPOSTO DEVIDO | G7: RPA AUTOMÁTICO
A8: 0 | B8: 2112 | C8: =IF(AND($B$4>$A8,$B$4<=$B8),$B$4,0) -> 0 | D8: 0 | E8: 0 | F8: 0 | G8: 0 | H8: 0
A9: =B8+0.01 -> 2112.01 | B9: 2826.65 | C9: =IF(AND($B$4>$A9,$B$4<=$B9),$B$4,0) -> 0 | D9: 0.075 | E9: 158.4 | F9: =IF(((D9*C9)-E9)<=0,0,(D9*C9)-E9) -> 0 | G9: =IF(F9<>0,D9,0) -> 0 | H9: =IF(F9<>0,E9,0) -> 0
A10: =B9+0.01 -> 2826.66 | B10: 3751.05 | C10: =IF(AND($B$4>$A10,$B$4<=$B10),$B$4,0) -> 0 | D10: 0.15 | E10: 370.4 | F10: =IF(((D10*C10)-E10)<=0,0,(D10*C10)-E10) -> 0 | G10: =IF(F10<>0,D10,0) -> 0 | H10: =IF(F10<>0,E10,0) -> 0
A11: =B10+0.01 -> 3751.06 | B11: 4664.68 | C11: =IF(AND($B$4>$A11,$B$4<=$B11),$B$4,0) -> 0 | D11: 0.225 | E11: 651.73 | F11: =IF(((D11*C11)-E11)<=0,0,(D11*C11)-E11) -> 0 | G11: =IF(F11<>0,D11,0) -> 0 | H11: =IF(F11<>0,E11,0) -> 0
A12: =B11+0.01 -> 4664.69 | B12: 999999.99 | C12: =IF(AND($B$4>$A12,$B$4<=$B12),$B$4,0) -> 6052 | D12: 0.275 | E12: 884.96 | F12: =IF(((D12*C12)-E12)<=0,0,(D12*C12)-E12) -> 779.34 | G12: =IF(F12<>0,D12,0) -> 0.275 | H12: =IF(F12<>0,E12,0) -> 884.96
E13: TOTAL | F13: =SUM(F8:F12) -> 779.34 | G13: =SUM(G8:G12) -> 0.275 | H13: =SUM(H8:H12) -> 884.96

Sheet CALCULADORA
A1: CALCULADORA RPA – RECIBO DE PAGAMENTO AUTÔNOMO
A4: BASE DE CÁLCULO
A5: VALOR TOTAL DOS SERVIÇOS | D5: R$ | E5: 6800 | F5: D | G5: Preencha com o valor BRUTO
A7: CÁLCULO - INSS
A8: BASE DE CÁLCULO | D8: R$ | E8: =IF(E5>=7507.49,7507.49,E5) -> 6800
A9: ALÍQUOTA | D9: % | E9: 11 | F9: D | G9: COM Retenção: não preencha nada, pois é automático
A10: VALOR A RECOLHER | D10: R$ | E10: =E8*E9% -> 748 | G10: SEM Retenção: altere a alíquota p/ zero
A12: CÁLCULO - IRRF
A13: BASE DE CÁLCULO | D13: R$ | E13: =TABELA_IR!B4 -> 6052 | F13: D | G13: Automático: não mexer
A14: ALÍQUOTA | D14: % | E14: =TABELA_IR!G13 -> 0.275
A15: PARCELA A DEDUZIR | D15: R$ | E15: =TABELA_IR!H13 -> 884.96
A16: VALOR A RECOLHER | D16: R$ | E16: =TABELA_IR!B5 -> 779.34
A18: CÁLCULO - ISSQN
A19: BASE DE CÁLCULO | D19: R$ | E19: =E5 -> 6800 | F19: D | G19: COM Retenção: não preencha nada, pois é automático
A20: ALÍQUOTA | D20: % | E20: 2 | G20: SEM Retenção: altere a alíquota p/ zero
A21: VALOR A RECOLHER | D21: R$ | E21: =E19*E20% -> 136 | G21: CASEMBRAPA: altere a alíquota p/ zero
A23: VALOR LÍQUIDO
A24: VALOR TOTAL DOS SERVIÇOS | D24: R$ | E24: =E5 -> 6800
A25: INSS A RECOLHER | D25: R$ | E25: =E10 -> 748
A26: IRRF A RECOLHER | D26: R$ | E26: =E16 -> 779.34
A27: ISSQN A RECOLHER | D27: R$ | E27: =E21 -> 136
A28: VALOR TOTAL DAS RETENÇÕES | D28: R$ | E28: =SUM(E25:E27) -> 1663.34
A29: VALOR LÍQUIDO A RECEBER | D29: R$ | E29: =E24-(SUM(E25:E27)) -> 5136.66 | F29: D | G29: Confira o valor LÍQUIDO e transcreva ao FORMULÁRIO PADRÃO
